BEGIN:VCALENDAR
CALSCALE:GREGORIAN
METHOD:PUBLISH
VERSION:2.0
PRODID:-//iCalWriter OpenSource Project//iCalWriter 0.8.1//EN
BEGIN:VEVENT
DTSTAMP:20260420T102941Z
UID:1776680981APdl@serviceportal.stendal.de
DTSTART:20250926T180000
DTEND:20250926T220000
SUMMARY:Heimat shoppen in Stendal
DESCRIPTION:Das 3. Heimatshoppen lädt alle Besucher, Einwohner & Gäste in die Innenstadt zum Bummeln ein.
Genießt zwischen 18 und 22 Uhr gemütliches Schlendern, schlemmen & mehr.
Auf dem Winckelmannplatz erwarten Euch mehrere Händler & der Pop Up Store in der
Priesterstraße hat auch so einiges zu bieten.
Kommt vorbei, genießt die besondere Atmosphäre und unterstützt dabei unsere lokalen Geschäfte.
Euer Stendaler Stadtmarketing, BIC & UNA
LOCATION:Innenstadt Stendal 39576 Hansestadt Stendal
Stadtmarketing Stendal e.V. 39576 Hansestadt Stendal
CATEGORIES:
URL:https://serviceportal.stendal.de/de/veranstaltungen/event/63617,42/heimat-shoppen-in-stendal-26-09-2025.html
ATTACH:https://serviceportal.stendal.de/de/datei/anzeigen/id/86556,42/signet_quadrat.png
END:VEVENT
END:VCALENDAR
